Workbook

Sheet 통합
A1: KH한국건강관리협회 통합콜센터 위탁운영 산출 내역서
A2: □ 산출기간 : 2027.1.1~2027.12.31(12개월) | H2: 제출자 : (인)
A3: 구분 | C3: 수도권 | D3: 대구/경북 | E3: 부산/울산/경남 | F3: 제주 | G3: 운영인원 총 합계 | H3: 비고
A5: 운영인원(명) | C5: =수도권!F5 -> 55 | D5: 11 | E5: =부울경!F5 -> 25 | F5: =제주!F5 -> 4 | G5: =SUM(C5:F5) -> 95 | H5: *인력 95명 / 상담석 101석(대구경북 6석 포함)
A6: 직접인건비 | B6: 기본급 | C6: =수도권!F6 -> 0 | D6: =대구경북!G6 -> 0 | E6: =부울경!F6 -> 0 | F6: =제주!F6 -> 0 | H6: 통상임금('27년도 최저시급 10,700원 기준)
B7: 직책수당 | C7: =수도권!F7 -> 0 | D7: =대구경북!G7 -> 0 | E7: =부울경!F7 -> 0 | F7: =제주!F7 -> 0 | H7: 통상임금
B8: 성과급 | C8: =수도권!F8 -> 0 | D8: =대구경북!G8 -> 0 | E8: =부울경!F8 -> 0 | F8: =제주!F8 -> 0 | H8: 통상임금
B9: 정액급식비 | C9: =수도권!F9 -> 0 | D9: =대구경북!G9 -> 0 | E9: =부울경!F9 -> 0 | F9: =제주!F9 -> 0 | H9: 통상임금
B10: 시간외수당(연장근로수당) | C10: =수도권!F10 -> 0 | D10: =대구경북!G10 -> 0 | E10: =부울경!F10 -> 0 | F10: =제주!F10 -> 0 | H10: 발생 시 실비 청구 / (통상임금/209시간)*1.5*연장근로시간
B11: 연차수당 | C11: =수도권!F11 -> 0 | D11: =대구경북!G11 -> 0 | E11: =부울경!F11 -> 0 | F11: =제주!F11 -> 0 | H11: 발생 시 실비 청구(1년도래시) / (통상임금/209시간)*8H*미사용연차
B12: 소계(퇴직충당금 미포함) | C12: =수도권!F12 -> 0 | D12: =대구경북!G12 -> 0 | E12: =부울경!F12 -> 0 | F12: =제주!F12 -> 0
B13: 퇴직충당금 | C13: =수도권!F13 -> 0 | D13: =대구경북!G13 -> 0 | E13: =부울경!F13 -> 0 | F13: =제주!F13 -> 0 | H13: ※ 1년 미만자는 근속 1년 도래시 소급 청구(급여소계+연차수당/12개월 )
B14: 1) 직접인건비 소계 | C14: =수도권!F14 -> 0 | D14: =대구경북!G14 -> 0 | E14: =부울경!F14 -> 0 | F14: =제주!F14 -> 0
A15: 간접인건비 ('27년 요율 적용) | B15: 건강보험 | C15: =수도권!F15 -> 0 | D15: =대구경북!G15 -> 0 | E15: =부울경!F15 -> 0 | F15: =제주!F15 -> 0 | H15: (급여소계-정액급식비) X 0.0% / '27년 요율 적용
B16: 노인장기요양보험 | C16: =수도권!F16 -> 0 | D16: =대구경북!G16 -> 0 | E16: =부울경!F16 -> 0 | F16: =제주!F16 -> 0 | H16: 건강보험료 X 0.0% / '27년 요율 적용
B17: 국민연금 | C17: =수도권!F17 -> 0 | D17: =대구경북!G17 -> 0 | E17: =부울경!F17 -> 0 | F17: =제주!F17 -> 0 | H17: (급여소계-정액급식비) X 0.0% / '27년 요율 적용
B18: 고용보험 | C18: =수도권!F18 -> 0 | D18: =대구경북!G18 -> 0 | E18: =부울경!F18 -> 0 | F18: =제주!F18 -> 0 | H18: (급여소계-정액급식비) X 0.0% / (실업급여 0.0% + 직업안정 0.0%) / '27년 요율 적용
B19: 산재보험 | C19: =수도권!F19 -> 0 | D19: =대구경북!G19 -> 0 | E19: =부울경!F19 -> 0 | F19: =제주!F19 -> 0 | H19: (급여소계-정액급식비) X 0.0% / '27년 요율 적용
B20: 사업소세 | C20: =수도권!F20 -> 0 | D20: =대구경북!G20 -> 0 | E20: =부울경!F20 -> 0 | F20: =제주!F20 -> 0 | H20: (급여소계-정액급식비) X 0.0% / '27년 요율 적용
B21: 장애인고용부담금 | C21: =수도권!F21 -> 0 | D21: =대구경북!G21 -> 0 | E21: =부울경!F21 -> 0 | F21: =제주!F21 -> 0 | H21: 00천원*0.0%
B22: 2) 간접인건비 소계 | C22: =수도권!F22 -> 0 | D22: =대구경북!G22 -> 0 | E22: =부울경!F22 -> 0 | F22: =제주!F22 -> 0
A23: 센터운영비 | B23: 복리후생비 | C23: =수도권!F23 -> 0 | D23: =대구경북!G23 -> 0 | E23: =부울경!F23 -> 0 | F23: =제주!F23 -> 0
B24: 교육훈련비 | C24: =수도권!F24 -> 0 | D24: =대구경북!G24 -> 0 | E24: =부울경!F24 -> 0 | F24: =제주!F24 -> 0
B25: 회의포상비 | C25: =수도권!F25 -> 0 | D25: =대구경북!G25 -> 0 | E25: =부울경!F25 -> 0 | F25: =제주!F25 -> 0
B26: 소모품비 | C26: =수도권!F26 -> 0 | D26: =대구경북!G26 -> 0 | E26: =부울경!F26 -> 0 | F26: =제주!F26 -> 0
B27: 3) 센터운영비 소계 | C27: =수도권!F27 -> 0 | D27: =대구경북!G27 -> 0 | E27: =부울경!F27 -> 0 | F27: =제주!F27 -> 0
A28: 4) 일반관리비 | C28: =수도권!F28 -> 0 | D28: =대구경북!G28 -> 0 | E28: =부울경!F28 -> 0 | F28: =제주!F28 -> 0 | H28: (직접인건비+간접인건비+센터운영비) X0.0%
A29: 5) 이윤 | C29: =수도권!F29 -> 0 | D29: =대구경북!G29 -> 0 | E29: =부울경!F29 -> 0 | F29: =제주!F29 -> 0 | H29: (직접인건비+간접인건비+센터운영비+일반관리비) X0.0%
A30: 6) 합계 (1+2+3+4+5) | C30: =수도권!F30 -> 0 | D30: =대구경북!G30 -> 0 | E30: =부울경!F30 -> 0 | F30: =제주!F30 -> 0 | H30: =G30*4 -> 0
A31: 7) 부가가치세 | C31: =수도권!F31 -> 0 | D31: =대구경북!G31 -> 0 | E31: =부울경!F31 -> 0 | F31: =제주!F31 -> 0
A32: 8) 월간 용역단가 (6+7) | C32: =수도권!F32 -> 0 | D32: =대구경북!G32 -> 0 | E32: =부울경!F32 -> 0 | F32: =제주!F32 -> 0 | H32: VAT포함
A33: 시설이용료 | B33: 시설이용료 | C33: =수도권!F33 -> 0 | D33: =대구경북!G33 -> 0 | E33: =부울경!F33 -> 0 | F33: =제주!F33 -> 0 | H33: =G33*4 -> 0
B34: 부가가치세 | C34: =수도권!F34 -> 0 | D34: =대구경북!G34 -> 0 | E34: =부울경!F34 -> 0 | F34: =제주!F34 -> 0
B35: 9) 월간 시설이용료 | C35: =수도권!F35 -> 0 | D35: =대구경북!G35 -> 0 | E35: =부울경!F35 -> 0 | F35: =제주!F35 -> 0 | H35: VAT포함
A36: 10) 월간 용역비 총계(8+9) | C36: =SUM(C32,C35) -> 0 | D36: =SUM(D32,D35) -> 0 | E36: =SUM(E32,E35) -> 0 | F36: =SUM(F32,F35) -> 0 | H36: VAT포함
A37: 11) 계약기간 총계(12개월) | C37: =C36*12 -> 0 | D37: =D36*12 -> 0 | E37: =E36*12 -> 0 | F37: =F36*12 -> 0 | G37: =C37+D37+E37+F37 -> 0 | H37: 계약기간 총 청구액(12개월)/VAT포함

Sheet 수도권
A1: 수도권지부 위탁운영 산출 내역서
A2: □ 산출기간 : 2027.1.1~2027.12.31(12개월) | G2: 제출자 : (인)
A3: 구분 | C3: 관리자 | F3: 운영인원 총 합계 | G3: 비고
C4: 센터장 | D4: 팀장 | E4: 상담사
A5: 운영인원(명) | C5: 1 | D5: 8 | E5: 46 | F5: =SUM(C5:E5) -> 55
A6: 직접인건비 | B6: 기본급 | F6: =SUMPRODUCT(C6:E6,$C$5:$E$5) -> 0 | G6: 통상임금('27년도 최저시급 10,700원 기준)
B7: 직책수당 | F7: =SUMPRODUCT(C7:E7,$C$5:$E$5) -> 0 | G7: 통상임금
B8: 성과급 | F8: =SUMPRODUCT(C8:E8,$C$5:$E$5) -> 0
B9: 정액급식비 | F9: =SUMPRODUCT(C9:E9,$C$5:$E$5) -> 0 | G9: 통상임금
B10: 시간외수당(연장근로수당) | G10: 발생 시 실비 청구 / (통상임금/209시간)*1.5*연장근로시간
B11: 연차수당 | G11: 발생 시 실비 청구(1년도래시) / (통상임금/209시간)*8H*미사용연차
B12: 소계(퇴직충당금 미포함) | F12: =SUMPRODUCT(C12:E12,$C$5:$E$5) -> 0
B13: 퇴직충당금 | F13: =SUM(C13:E13) -> 0 | G13: ※ 1년 미만자는 근속 1년 도래시 소급 청구(급여소계+연차수당/12개월 )
B14: 1) 직접인건비 소계 | C14: =C12+C13 -> 0 | D14: =D12+D13 -> 0 | E14: =E12+E13 -> 0 | F14: =SUMPRODUCT(C14:E14,$C$5:$E$5) -> 0
A15: 간접인건비 ('27년 요율 적용) | B15: 건강보험 | F15: =SUMPRODUCT(C15:E15,$C$5:$E$5) -> 0 | G15: (급여소계-정액급식비) X 0.0% / '27년 요율 적용
B16: 노인장기요양보험 | F16: =SUMPRODUCT(C16:E16,$C$5:$E$5) -> 0 | G16: 건강보험료 X 0.0% / '27년 요율 적용
B17: 국민연금 | F17: =SUMPRODUCT(C17:E17,$C$5:$E$5) -> 0 | G17: (급여소계-정액급식비) X 0.0% / '27년 요율 적용
B18: 고용보험 | F18: =SUMPRODUCT(C18:E18,$C$5:$E$5) -> 0 | G18: (급여소계-정액급식비) X 0.0% / (실업급여 0.0% + 직업안정 0.0%) / '27년 요율 적용
B19: 산재보험 | F19: =SUMPRODUCT(C19:E19,$C$5:$E$5) -> 0 | G19: (급여소계-정액급식비) X 0.0% / '27년 요율 적용
B20: 사업소세 | F20: =SUMPRODUCT(C20:E20,$C$5:$E$5) -> 0 | G20: (급여소계-정액급식비) X 0.0% / '27년 요율 적용
B21: 장애인고용부담금 | F21: =SUMPRODUCT(C21:E21,$C$5:$E$5) -> 0 | G21: 00천원*0.0%
B22: 2) 간접인건비 소계 | C22: =SUM(C15:C21) -> 0 | D22: =SUM(D15:D21) -> 0 | E22: =SUM(E15:E21) -> 0 | F22: =SUMPRODUCT(C22:E22,$C$5:$E$5) -> 0
A23: 센터운영비 | B23: 복리후생비 | F23: =SUMPRODUCT(C23:E23,$C$5:$E$5) -> 0
B24: 교육훈련비 | F24: =SUMPRODUCT(C24:E24,$C$5:$E$5) -> 0
B25: 회의포상비 | F25: =SUMPRODUCT(C25:E25,$C$5:$E$5) -> 0
B26: 소모품비 | F26: =SUMPRODUCT(C26:E26,$C$5:$E$5) -> 0
B27: 3) 센터운영비 소계 | C27: =SUM(C23:C26) -> 0 | D27: =SUM(D23:D26) -> 0 | E27: =SUM(E23:E26) -> 0 | F27: =SUMPRODUCT(C27:E27,$C$5:$E$5) -> 0
A28: 4) 일반관리비 | F28: =SUMPRODUCT(C28:E28,$C$5:$E$5) -> 0 | G28: (직접인건비+간접인건비+센터운영비) X 0.0%
A29: 5) 이윤 | F29: =SUMPRODUCT(C29:E29,$C$5:$E$5) -> 0 | G29: (직접인건비+간접인건비+센터운영비+일반관리비) X 0.0%
A30: 6) 합계 (1+2+3+4+5) | C30: =SUM(C14,C22,C27,C28+C29) -> 0 | D30: =SUM(D14,D22,D27,D28+D29) -> 0 | E30: =SUM(E14,E22,E27,E28+E29) -> 0 | F30: =SUMPRODUCT(C30:E30,$C$5:$E$5) -> 0 | G30: =F30*4 -> 0
A31: 7) 부가가치세 | F31: =SUMPRODUCT(C31:E31,$C$5:$E$5) -> 0
A32: 8) 월간 용역단가 (6+7) | C32: =C30+C31 -> 0 | D32: =D30+D31 -> 0 | E32: =E30+E31 -> 0 | F32: =SUMPRODUCT(C32:E32,$C$5:$E$5) -> 0 | G32: VAT포함
A33: 시설이용료 | B33: 시설이용료 | F33: =SUMPRODUCT(C33:E33,$C$5:$E$5) -> 0 | G33: =F33*4 -> 0
B34: 부가가치세 | F34: =SUMPRODUCT(C34:E34,$C$5:$E$5) -> 0
B35: 9) 월간 시설이용료 | C35: =SUM(C33:C34) -> 0 | D35: =SUM(D33:D34) -> 0 | E35: =SUM(E33:E34) -> 0 | F35: =SUMPRODUCT(C35:E35,$C$5:$E$5) -> 0 | G35: VAT포함
A36: 10) 월간 용역비 총계(8+9) | C36: =SUM(C32,C35) -> 0 | D36: =SUM(D32,D35) -> 0 | E36: =SUM(E32,E35) -> 0 | F36: =SUMPRODUCT(C36:E36,$C$5:$E$5) -> 0 | G36: VAT포함
A37: 11) 계약기간 총계(12개월) | C37: =C36*12 -> 0 | D37: =D36*12 -> 0 | E37: =E36*12 -> 0 | F37: =F36*12 -> 0 | G37: 계약기간 총 청구액(12개월)/VAT포함

Sheet 대구경북
A1: 대구/경북지부 위탁운영 산출 내역서
A2: □ 산출기간 : 2027.1.1~2027.12.31(12개월) | H2: 제출자 : (인)
A3: 구분 | C3: 관리자 | F3: 사무직원 | G3: 운영인원 총 합계 | H3: 비고
C4: 센터장 | D4: 팀장 | E4: 상담사 | F4: 영업사원
A5: 운영인원(명) | C5: 1 | D5: 2 | E5: 8 | F5: 6 | G5: =SUM(C5:F5) -> 17
A6: 직접인건비 | B6: 기본급 | G6: =SUMPRODUCT(C6:F6,$C$5:$F$5) -> 0 | H6: 통상임금('27년도 최저시급 10,700원 기준)
B7: 직책수당 | G7: =SUMPRODUCT(C7:F7,$C$5:$F$5) -> 0 | H7: 통상임금
B8: 성과급 | G8: =SUMPRODUCT(C8:F8,$C$5:$F$5) -> 0
B9: 정액급식비 | G9: =SUMPRODUCT(C9:F9,$C$5:$F$5) -> 0 | H9: 통상임금
B10: 시간외수당(연장근로수당) | H10: 발생 시 실비 청구 / (통상임금/209시간)*1.5*연장근로시간
B11: 연차수당 | H11: 발생 시 실비 청구(1년도래시) / (통상임금/209시간)*8H*미사용연차
B12: 소계(퇴직충당금 미포함) | G12: =SUMPRODUCT(C12:F12,$C$5:$F$5) -> 0
B13: 퇴직충당금 | F13: =F12/12 -> 0 | G13: =SUM(C13:F13) -> 0 | H13: ※ 1년 미만자는 근속 1년 도래시 소급 청구(급여소계+연차수당/12개월 )
B14: 1) 직접인건비 소계 | C14: =C12+C13 -> 0 | D14: =D12+D13 -> 0 | E14: =E12+E13 -> 0 | F14: =F12+F13 -> 0 | G14: =SUMPRODUCT(C14:F14,$C$5:$F$5) -> 0
A15: 간접인건비 ('27년 요율 적용) | B15: 건강보험 | F15: =ROUND((F12-F9)*3.595%,0) -> 0 | G15: =SUMPRODUCT(C15:F15,$C$5:$F$5) -> 0 | H15: (급여소계-정액급식비) X 0.0% / '27년 요율 적용
B16: 노인장기요양보험 | F16: =ROUND(F15*13.14%,0) -> 0 | G16: =SUMPRODUCT(C16:F16,$C$5:$F$5) -> 0 | H16: 건강보험료 X 0.0% / '27년 요율 적용
B17: 국민연금 | F17: =ROUND((F12-F9)*4.75%,0) -> 0 | G17: =SUMPRODUCT(C17:F17,$C$5:$F$5) -> 0 | H17: (급여소계-정액급식비) X 0.0% / '27년 요율 적용
B18: 고용보험 | F18: =ROUND((F12-F9)*1.75%,0) -> 0 | G18: =SUMPRODUCT(C18:F18,$C$5:$F$5) -> 0 | H18: (급여소계-정액급식비) X 0.0% / (실업급여 0.0% + 직업안정 0.0%) / '27년 요율 적용
B19: 산재보험 | F19: =ROUND((F12-F9)*1%,0) -> 0 | G19: =SUMPRODUCT(C19:F19,$C$5:$F$5) -> 0 | H19: (급여소계-정액급식비) X 0.0% / '27년 요율 적용
B20: 사업소세 | F20: =ROUND((F12-F9)*0.5%,0) -> 0 | G20: =SUMPRODUCT(C20:F20,$C$5:$F$5) -> 0 | H20: (급여소계-정액급식비) X 0.0% / '27년 요율 적용
B21: 장애인고용부담금 | G21: =SUMPRODUCT(C21:F21,$C$5:$F$5) -> 0 | H21: 00천원*0.0%
B22: 2) 간접인건비 소계 | C22: =SUM(C15:C21) -> 0 | D22: =SUM(D15:D21) -> 0 | E22: =SUM(E15:E21) -> 0 | F22: =SUM(F15:F21) -> 0 | G22: =SUMPRODUCT(C22:F22,$C$5:$F$5) -> 0
A23: 센터운영비 | B23: 복리후생비 | G23: =SUMPRODUCT(C23:F23,$C$5:$F$5) -> 0
B24: 교육훈련비 | G24: =SUMPRODUCT(C24:F24,$C$5:$F$5) -> 0
B25: 회의포상비 | G25: =SUMPRODUCT(C25:F25,$C$5:$F$5) -> 0
B26: 소모품비 | G26: =SUMPRODUCT(C26:F26,$C$5:$F$5) -> 0
B27: 3) 센터운영비 소계 | C27: =SUM(C23:C26) -> 0 | D27: =SUM(D23:D26) -> 0 | E27: =SUM(E23:E26) -> 0 | F27: =SUM(F23:F26) -> 0 | G27: =SUMPRODUCT(C27:F27,$C$5:$F$5) -> 0
A28: 4) 일반관리비 | F28: =(F14+F22+F27)*5% -> 0 | G28: =SUMPRODUCT(C28:F28,$C$5:$F$5) -> 0 | H28: (직접인건비+간접인건비+센터운영비) X 0.0%
A29: 5) 이윤 | F29: =(F14+F22+F27+F28)*2% -> 0 | G29: =SUMPRODUCT(C29:F29,$C$5:$F$5) -> 0 | H29: (직접인건비+간접인건비+센터운영비+일반관리비) X 0.0%
A30: 6) 합계 (1+2+3+4+5) | C30: =SUM(C14,C22,C27,C28+C29) -> 0 | D30: =SUM(D14,D22,D27,D28+D29) -> 0 | E30: =SUM(E14,E22,E27,E28+E29) -> 0 | F30: =SUM(F14,F22,F27,F28+F29) -> 0 | G30: =SUMPRODUCT(C30:F30,$C$5:$F$5) -> 0 | H30: =G30*4 -> 0
A31: 7) 부가가치세 | C31: =C30*10% -> 0 | D31: =D30*10% -> 0 | E31: =E30*10% -> 0 | F31: =F30*10% -> 0 | G31: =SUMPRODUCT(C31:F31,$C$5:$F$5) -> 0
A32: 8) 월간 용역단가 (6+7) | C32: =C30+C31 -> 0 | D32: =D30+D31 -> 0 | E32: =E30+E31 -> 0 | F32: =F30+F31 -> 0 | G32: =SUMPRODUCT(C32:F32,$C$5:$F$5) -> 0 | H32: VAT포함
A33: 시설이용료 | B33: 시설이용료 | G33: =SUMPRODUCT(C33:F33,$C$5:$F$5) -> 0 | H33: =G33*4 -> 0
B34: 부가가치세 | G34: =SUMPRODUCT(C34:F34,$C$5:$F$5) -> 0
B35: 9) 월간 시설이용료 | C35: =SUM(C33:C34) -> 0 | D35: =SUM(D33:D34) -> 0 | E35: =SUM(E33:E34) -> 0 | F35: =SUM(F33:F34) -> 0 | G35: =SUMPRODUCT(C35:F35,$C$5:$F$5) -> 0 | H35: VAT포함
A36: 10) 월간 용역비 총계(8+9) | C36: =SUM(C32,C35) -> 0 | D36: =SUM(D32,D35) -> 0 | E36: =SUM(E32,E35) -> 0 | F36: =SUM(F32,F35) -> 0 | G36: =SUMPRODUCT(C36:F36,$C$5:$F$5) -> 0 | H36: VAT포함
A37: 11) 계약기간 총계(12개월) | C37: =C36*12 -> 0 | D37: =D36*12 -> 0 | E37: =E36*12 -> 0 | F37: =F36*12 -> 0 | G37: =G36*12 -> 0 | H37: 계약기간 총 청구액(12개월)/VAT포함

Sheet 부울경
A1: 부산/울산/경남지부 위탁운영 산출 내역서
A2: □ 산출기간 : 2027.1.1~2027.12.31(12개월) | G2: 제출자 : (인)
A3: 구분 | C3: 관리자 | F3: 운영인원 총 합계 | G3: 비고
C4: 센터장 | D4: 팀장 | E4: 상담사
A5: 운영인원(명) | C5: 1 | D5: 4 | E5: 20 | F5: =SUM(C5:E5) -> 25
A6: 직접인건비 | B6: 기본급 | F6: =SUMPRODUCT(C6:E6,$C$5:$E$5) -> 0 | G6: 통상임금('27년도 최저시급 10,700원 기준)
B7: 직책수당 | F7: =SUMPRODUCT(C7:E7,$C$5:$E$5) -> 0 | G7: 통상임금
B8: 성과급 | F8: =SUMPRODUCT(C8:E8,$C$5:$E$5) -> 0
B9: 정액급식비 | F9: =SUMPRODUCT(C9:E9,$C$5:$E$5) -> 0 | G9: 통상임금
B10: 시간외수당(연장근로수당) | G10: 발생 시 실비 청구 / (통상임금/209시간)*1.5*연장근로시간
B11: 연차수당 | G11: 발생 시 실비 청구(1년도래시) / (통상임금/209시간)*8H*미사용연차
B12: 소계(퇴직충당금 미포함) | F12: =SUMPRODUCT(C12:E12,$C$5:$E$5) -> 0
B13: 퇴직충당금 | F13: =SUM(C13:E13) -> 0 | G13: ※ 1년 미만자는 근속 1년 도래시 소급 청구(급여소계+연차수당/12개월 )
B14: 1) 직접인건비 소계 | C14: =C12+C13 -> 0 | D14: =D12+D13 -> 0 | E14: =E12+E13 -> 0 | F14: =SUMPRODUCT(C14:E14,$C$5:$E$5) -> 0
A15: 간접인건비 ('27년 요율 적용) | B15: 건강보험 | C15: =ROUND((C12-C9)*3.595%,0) -> 0 | D15: =ROUND((D12-D9)*3.595%,0) -> 0 | E15: =ROUND((E12-E9)*3.595%,0) -> 0 | F15: =SUMPRODUCT(C15:E15,$C$5:$E$5) -> 0 | G15: (급여소계-정액급식비) X 0.0% / '27년 요율 적용
B16: 노인장기요양보험 | C16: =ROUND(C15*13.14%,0) -> 0 | D16: =ROUND(D15*13.14%,0) -> 0 | E16: =ROUND(E15*13.14%,0) -> 0 | F16: =SUMPRODUCT(C16:E16,$C$5:$E$5) -> 0 | G16: 건강보험료 X 0.0% / '27년 요율 적용
B17: 국민연금 | C17: =ROUND((C12-C9)*4.75%,0) -> 0 | D17: =ROUND((D12-D9)*4.75%,0) -> 0 | E17: =ROUND((E12-E9)*4.75%,0) -> 0 | F17: =SUMPRODUCT(C17:E17,$C$5:$E$5) -> 0 | G17: (급여소계-정액급식비) X 0.0% / '27년 요율 적용
B18: 고용보험 | C18: =ROUND((C12-C9)*1.75%,0) -> 0 | D18: =ROUND((D12-D9)*1.75%,0) -> 0 | E18: =ROUND((E12-E9)*1.75%,0) -> 0 | F18: =SUMPRODUCT(C18:E18,$C$5:$E$5) -> 0 | G18: (급여소계-정액급식비) X 0.0% / (실업급여 0.0% + 직업안정 0.0%) / '27년 요율 적용
B19: 산재보험 | C19: =ROUND((C12-C9)*0.796%,0) -> 0 | D19: =ROUND((D12-D9)*0.796%,0) -> 0 | E19: =ROUND((E12-E9)*1%,0) -> 0 | F19: =SUMPRODUCT(C19:E19,$C$5:$E$5) -> 0 | G19: (급여소계-정액급식비) X 0.0% / '27년 요율 적용
B20: 사업소세 | C20: =ROUND((C12-C9)*0.5%,0) -> 0 | D20: =ROUND((D12-D9)*0.5%,0) -> 0 | E20: =ROUND((E12-E9)*0.5%,0) -> 0 | F20: =SUMPRODUCT(C20:E20,$C$5:$E$5) -> 0 | G20: (급여소계-정액급식비) X 0.0% / '27년 요율 적용
B21: 장애인고용부담금 | F21: =SUMPRODUCT(C21:E21,$C$5:$E$5) -> 0 | G21: 00천원*0.0%
B22: 2) 간접인건비 소계 | C22: =SUM(C15:C21) -> 0 | D22: =SUM(D15:D21) -> 0 | E22: =SUM(E15:E21) -> 0 | F22: =SUMPRODUCT(C22:E22,$C$5:$E$5) -> 0
A23: 센터운영비 | B23: 복리후생비 | F23: =SUMPRODUCT(C23:E23,$C$5:$E$5) -> 0
B24: 교육훈련비 | F24: =SUMPRODUCT(C24:E24,$C$5:$E$5) -> 0
B25: 회의포상비 | F25: =SUMPRODUCT(C25:E25,$C$5:$E$5) -> 0
B26: 소모품비 | F26: =SUMPRODUCT(C26:E26,$C$5:$E$5) -> 0
B27: 3) 센터운영비 소계 | C27: =SUM(C23:C26) -> 0 | D27: =SUM(D23:D26) -> 0 | E27: =SUM(E23:E26) -> 0 | F27: =SUMPRODUCT(C27:E27,$C$5:$E$5) -> 0
A28: 4) 일반관리비 | F28: =SUMPRODUCT(C28:E28,$C$5:$E$5) -> 0 | G28: (직접인건비+간접인건비+센터운영비) X 0.0%
A29: 5) 이윤 | F29: =SUMPRODUCT(C29:E29,$C$5:$E$5) -> 0 | G29: (직접인건비+간접인건비+센터운영비+일반관리비) X0.0%
A30: 6) 합계 (1+2+3+4+5) | C30: =SUM(C14,C22,C27,C28+C29) -> 0 | D30: =SUM(D14,D22,D27,D28+D29) -> 0 | E30: =SUM(E14,E22,E27,E28+E29) -> 0 | F30: =SUMPRODUCT(C30:E30,$C$5:$E$5) -> 0 | G30: =F30*4 -> 0
A31: 7) 부가가치세 | F31: =SUMPRODUCT(C31:E31,$C$5:$E$5) -> 0
A32: 8) 월간 용역단가 (6+7) | C32: =C30+C31 -> 0 | D32: =D30+D31 -> 0 | E32: =E30+E31 -> 0 | F32: =SUMPRODUCT(C32:E32,$C$5:$E$5) -> 0 | G32: VAT포함
A33: 시설이용료 | B33: 시설이용료 | F33: =SUMPRODUCT(C33:E33,$C$5:$E$5) -> 0 | G33: =F33*4 -> 0
B34: 부가가치세 | F34: =SUMPRODUCT(C34:E34,$C$5:$E$5) -> 0
B35: 9) 월간 시설이용료 | C35: =SUM(C33:C34) -> 0 | D35: =SUM(D33:D34) -> 0 | E35: =SUM(E33:E34) -> 0 | F35: =SUMPRODUCT(C35:E35,$C$5:$E$5) -> 0 | G35: VAT포함
A36: 10) 월간 용역비 총계(8+9) | C36: =SUM(C32,C35) -> 0 | D36: =SUM(D32,D35) -> 0 | E36: =SUM(E32,E35) -> 0 | F36: =SUMPRODUCT(C36:E36,$C$5:$E$5) -> 0 | G36: VAT포함
A37: 11) 계약기간 총계(12개월) | C37: =C36*12 -> 0 | D37: =D36*12 -> 0 | E37: =E36*12 -> 0 | F37: =F36*12 -> 0 | G37: 계약기간 총 청구액(12개월)/VAT포함

Sheet 제주
A1: 제주지부 위탁운영 산출 내역서
A2: □ 산출기간 : 2027.1.1~2027.12.31(12개월) | G2: 제출자 : (인)
A3: 구분 | C3: 관리자 | D3: 상담사(아웃바운드) | F3: 운영인원 총 합계 | G3: 비고
C4: 팀장 | D4: 검진예약(5H) | E4: 검진예약(6H)
A5: 운영인원(명) | C5: 1 | D5: 2 | E5: 1 | F5: =SUM(C5:E5) -> 4
A6: 직접인건비 | B6: 기본급 | F6: =SUMPRODUCT(C6:E6,$C$5:$E$5) -> 0 | G6: 통상임금('27년도 최저시급 10,700원 기준)
B7: 직책수당 | F7: =SUMPRODUCT(C7:E7,$C$5:$E$5) -> 0 | G7: 통상임금
B8: 성과급 | F8: =SUMPRODUCT(C8:E8,$C$5:$E$5) -> 0
B9: 정액급식비 | F9: =SUMPRODUCT(C9:E9,$C$5:$E$5) -> 0 | G9: 통상임금
B10: 시간외수당(연장근로수당) | G10: 발생 시 실비 청구 / (통상임금/209시간)*1.5*연장근로시간
B11: 연차수당 | G11: 발생 시 실비 청구(1년도래시) / (통상임금/209시간)*8H*미사용연차
B12: 소계(퇴직충당금 미포함) | F12: =SUMPRODUCT(C12:E12,$C$5:$E$5) -> 0
B13: 퇴직충당금 | F13: =SUM(C13:E13) -> 0 | G13: ※ 1년 미만자는 근속 1년 도래시 소급 청구(급여소계+연차수당/12개월 )
B14: 1) 직접인건비 소계 | C14: =C12+C13 -> 0 | D14: =D12+D13 -> 0 | E14: =E12+E13 -> 0 | F14: =SUMPRODUCT(C14:E14,$C$5:$E$5) -> 0
A15: 간접인건비 ('27년 요율 적용) | B15: 건강보험 | C15: =ROUND((C12-C9)*3.595%,0) -> 0 | D15: =ROUND((D12-D9)*3.595%,0) -> 0 | E15: =ROUND((E12-E9)*3.595%,0) -> 0 | F15: =SUMPRODUCT(C15:E15,$C$5:$E$5) -> 0 | G15: (급여소계-정액급식비) X 0.0% / '27년 요율 적용
B16: 노인장기요양보험 | C16: =ROUND(C15*13.14%,0) -> 0 | D16: =ROUND(D15*13.14%,0) -> 0 | E16: =ROUND(E15*13.14%,0) -> 0 | F16: =SUMPRODUCT(C16:E16,$C$5:$E$5) -> 0 | G16: 건강보험료 X 0.0% / '27년 요율 적용
B17: 국민연금 | C17: =ROUND((C12-C9)*4.75%,0) -> 0 | D17: =ROUND((D12-D9)*4.75%,0) -> 0 | E17: =ROUND((E12-E9)*4.75%,0) -> 0 | F17: =SUMPRODUCT(C17:E17,$C$5:$E$5) -> 0 | G17: (급여소계-정액급식비) X 0.0% / '27년 요율 적용
B18: 고용보험 | C18: =ROUND((C12-C9)*1.75%,0) -> 0 | D18: =ROUND((D12-D9)*1.75%,0) -> 0 | E18: =ROUND((E12-E9)*1.75%,0) -> 0 | F18: =SUMPRODUCT(C18:E18,$C$5:$E$5) -> 0 | G18: (급여소계-정액급식비) X 0.0% / (실업급여 0.0% + 직업안정 0.0%) / '27년 요율 적용
B19: 산재보험 | C19: =ROUND((C12-C9)*1%,0) -> 0 | D19: =ROUND((D12-D9)*1%,0) -> 0 | E19: =ROUND((E12-E9)*1%,0) -> 0 | F19: =SUMPRODUCT(C19:E19,$C$5:$E$5) -> 0 | G19: (급여소계-정액급식비) X 0.0% / '27년 요율 적용
B20: 사업소세 | C20: =ROUND((C12-C9)*0.5%,0) -> 0 | D20: =ROUND((D12-D9)*0.5%,0) -> 0 | E20: =ROUND((E12-E9)*0.5%,0) -> 0 | F20: =SUMPRODUCT(C20:E20,$C$5:$E$5) -> 0 | G20: (급여소계-정액급식비) X 0.0% / '27년 요율 적용
B21: 장애인고용부담금 | F21: =SUMPRODUCT(C21:E21,$C$5:$E$5) -> 0 | G21: 00천원*0.0%
B22: 2) 간접인건비 소계 | C22: =SUM(C15:C21) -> 0 | D22: =SUM(D15:D21) -> 0 | E22: =SUM(E15:E21) -> 0 | F22: =SUMPRODUCT(C22:E22,$C$5:$E$5) -> 0
A23: 센터운영비 | B23: 복리후생비 | F23: =SUMPRODUCT(C23:E23,$C$5:$E$5) -> 0
B24: 교육훈련비 | F24: =SUMPRODUCT(C24:E24,$C$5:$E$5) -> 0
B25: 회의포상비 | F25: =SUMPRODUCT(C25:E25,$C$5:$E$5) -> 0
B26: 소모품비 | F26: =SUMPRODUCT(C26:E26,$C$5:$E$5) -> 0
B27: 3) 센터운영비 소계 | C27: =SUM(C23:C26) -> 0 | D27: =SUM(D23:D26) -> 0 | E27: =SUM(E23:E26) -> 0 | F27: =SUMPRODUCT(C27:E27,$C$5:$E$5) -> 0
A28: 4) 일반관리비 | F28: =SUMPRODUCT(C28:E28,$C$5:$E$5) -> 0 | G28: (직접인건비+간접인건비+센터운영비) X 0.0%
A29: 5) 이윤 | F29: =SUMPRODUCT(C29:E29,$C$5:$E$5) -> 0 | G29: (직접인건비+간접인건비+센터운영비+일반관리비) X 0.0%
A30: 6) 합계 (1+2+3+4+5) | C30: =SUM(C14,C22,C27,C28+C29) -> 0 | D30: =SUM(D14,D22,D27,D28+D29) -> 0 | E30: =SUM(E14,E22,E27,E28+E29) -> 0 | F30: =SUMPRODUCT(C30:E30,$C$5:$E$5) -> 0 | G30: =F30*7 -> 0
A31: 7) 부가가치세 | C31: =C30*10% -> 0 | D31: =D30*10% -> 0 | E31: =E30*10% -> 0 | F31: =SUMPRODUCT(C31:E31,$C$5:$E$5) -> 0
A32: 8) 월간 용역단가 (6+7) | C32: =C30+C31 -> 0 | D32: =D30+D31 -> 0 | E32: =E30+E31 -> 0 | F32: =SUMPRODUCT(C32:E32,$C$5:$E$5) -> 0 | G32: VAT포함
A33: 시설이용료 | B33: 시설이용료 | F33: =SUMPRODUCT(C33:E33,$C$5:$E$5) -> 0 | G33: =F33*7 -> 0
B34: 부가가치세 | F34: =SUM(C34:E34) -> 0
B35: 9) 월간 시설이용료 | C35: =SUM(C33:C34) -> 0 | D35: =SUM(D33:D34) -> 0 | E35: =SUM(E33:E34) -> 0 | F35: =SUMPRODUCT(C35:E35,$C$5:$E$5) -> 0 | G35: VAT포함
A36: 10) 월간 용역비 총계(8+9) | C36: =SUM(C32,C35) -> 0 | D36: =SUM(D32,D35) -> 0 | E36: =SUM(E32,E35) -> 0 | F36: =SUMPRODUCT(C36:E36,$C$5:$E$5) -> 0 | G36: VAT포함
A37: 11) 계약기간 총계(12개월) | C37: =C36*12 -> 0 | D37: =D36*12 -> 0 | E37: =E36*12 -> 0 | F37: =F36*12 -> 0 | G37: 계약기간 총 청구액(12개월)/VAT포함

Sheet 단시간상담사
A1: 단시간 상담사 위탁운영 산출 내역서
A2: □ 산출기간 : 2027.1.1~2027.12.31(12개월) | H2: 제출자 : (인)
A3: 구분 | C3: 단시간 상담사 | H3: 비고
C4: 4H | D4: 5H | E4: 6H | F4: 7H | G4: 8H
A5: 운영인원(명) | C5: 1 | D5: 1 | E5: 1 | F5: 1 | G5: 1
A6: 직접인건비 | B6: 기본급 | H6: 통상임금('27년도 최저시급 10,700원 기준) / 4H(월간105H),5H(월간131H),6H(월간157H), 7H(월간183H)
B7: 직책수당 | H7: 통상임금
B8: 성과급
B9: 정액급식비 | H9: 통상임금
B10: 시간외수당(연장근로수당) | H10: 발생 시 실비 청구 / (통상임금/209시간)*1.5*연장근로시간
B11: 연차수당 | H11: 발생 시 실비 청구(1년도래시) / (통상임금/209시간)*8H*미사용연차
B12: 소계(퇴직충당금 미포함)
B13: 퇴직충당금 | H13: ※ 1년 미만자는 근속 1년 도래시 소급 청구(급여소계+연차수당/12개월 )
B14: 1) 직접인건비 소계 | C14: =C12+C13 -> 0 | D14: =D12+D13 -> 0 | E14: =E12+E13 -> 0 | F14: =F12+F13 -> 0 | G14: =G12+G13 -> 0
A15: 간접인건비 ('27년 요율 적용) | B15: 건강보험 | C15: =ROUND((C12-C9)*3.595%,0) -> 0 | D15: =ROUND((D12-D9)*3.595%,0) -> 0 | E15: =ROUND((E12-E9)*3.595%,0) -> 0 | F15: =ROUND((F12-F9)*3.595%,0) -> 0 | G15: =ROUND((G12-G9)*3.595%,0) -> 0 | H15: (급여소계-정액급식비) X 0.0% / '27년 요율 적용
B16: 노인장기요양보험 | C16: =ROUND(C15*13.14%,0) -> 0 | D16: =ROUND(D15*13.14%,0) -> 0 | E16: =ROUND(E15*13.14%,0) -> 0 | F16: =ROUND(F15*13.14%,0) -> 0 | G16: =ROUND(G15*13.14%,0) -> 0 | H16: 건강보험료 X 0.0% / '27년 요율 적용
B17: 국민연금 | C17: =ROUND((C12-C9)*4.75%,0) -> 0 | D17: =ROUND((D12-D9)*4.75%,0) -> 0 | E17: =ROUND((E12-E9)*4.75%,0) -> 0 | F17: =ROUND((F12-F9)*4.75%,0) -> 0 | G17: =ROUND((G12-G9)*4.75%,0) -> 0 | H17: (급여소계-정액급식비) X 0.0% / '27년 요율 적용
B18: 고용보험 | C18: =ROUND((C12-C9)*1.75%,0) -> 0 | D18: =ROUND((D12-D9)*1.75%,0) -> 0 | E18: =ROUND((E12-E9)*1.75%,0) -> 0 | F18: =ROUND((F12-F9)*1.75%,0) -> 0 | G18: =ROUND((G12-G9)*1.75%,0) -> 0 | H18: (급여소계-정액급식비) X 0.0% / (실업급여 0.0% + 직업안정 0.0%) / '27년 요율 적용
B19: 산재보험 | C19: =ROUND((C12-C9)*0.796%,0) -> 0 | D19: =ROUND((D12-D9)*0.796%,0) -> 0 | E19: =ROUND((E12-E9)*0.796%,0) -> 0 | F19: =ROUND((F12-F9)*0.796%,0) -> 0 | G19: =ROUND((G12-G9)*0.796%,0) -> 0 | H19: (급여소계-정액급식비) X 0.0% / '27년 요율 적용
B20: 사업소세 | C20: =ROUND((C12-C9)*0.5%,0) -> 0 | D20: =ROUND((D12-D9)*0.5%,0) -> 0 | E20: =ROUND((E12-E9)*0.5%,0) -> 0 | F20: =ROUND((F12-F9)*0.5%,0) -> 0 | G20: =ROUND((G12-G9)*0.5%,0) -> 0 | H20: (급여소계-정액급식비) X 0.0% / '27년 요율 적용
B21: 장애인고용부담금 | H21: 00천원*0.0%
B22: 2) 간접인건비 소계 | C22: =SUM(C15:C21) -> 0 | D22: =SUM(D15:D21) -> 0 | E22: =SUM(E15:E21) -> 0 | F22: =SUM(F15:F21) -> 0 | G22: =SUM(G15:G21) -> 0
A23: 센터운영비 | B23: 복리후생비
B24: 교육훈련비
B25: 회의포상비
B26: 소모품비
B27: 3) 센터운영비 소계 | C27: =SUM(C23:C26) -> 0 | D27: =SUM(D23:D26) -> 0 | E27: =SUM(E23:E26) -> 0 | F27: =SUM(F23:F26) -> 0 | G27: =SUM(G23:G26) -> 0
A28: 4) 일반관리비 | H28: (직접인건비+간접인건비+센터운영비) X 0.0%
A29: 5) 이윤 | H29: (직접인건비+간접인건비+센터운영비+일반관리비) X 0.0%
A30: 6) 합계 (1+2+3+4+5) | C30: =SUM(C14,C22,C27,C28+C29) -> 0 | D30: =SUM(D14,D22,D27,D28+D29) -> 0 | E30: =SUM(E14,E22,E27,E28+E29) -> 0 | F30: =SUM(F14,F22,F27,F28+F29) -> 0 | G30: =SUM(G14,G22,G27,G28+G29) -> 0
A31: 7) 부가가치세 | C31: =C30*10% -> 0 | D31: =D30*10% -> 0 | E31: =E30*10% -> 0 | F31: =F30*10% -> 0 | G31: =G30*10% -> 0
A32: 8) 월간 용역단가 (6+7) | C32: =C30+C31 -> 0 | D32: =D30+D31 -> 0 | E32: =E30+E31 -> 0 | F32: =F30+F31 -> 0 | G32: =G30+G31 -> 0 | H32: VAT포함
A33: 시설이용료 | B33: 시설이용료
B34: 부가가치세
B35: 9) 월간 시설이용료 | C35: =SUM(C33:C34) -> 0 | D35: =SUM(D33:D34) -> 0 | E35: =SUM(E33:E34) -> 0 | F35: =SUM(F33:F34) -> 0 | G35: =SUM(G33:G34) -> 0 | H35: VAT포함
A36: 10) 월간 용역비 총계(8+9) | C36: =SUM(C32,C35) -> 0 | D36: =SUM(D32,D35) -> 0 | E36: =SUM(E32,E35) -> 0 | F36: =SUM(F32,F35) -> 0 | G36: =SUM(G32,G35) -> 0 | H36: VAT포함
A37: 11) 계약기간 총계(12개월) | C37: =C36*12 -> 0 | D37: =D36*12 -> 0 | E37: =E36*12 -> 0 | F37: =F36*12 -> 0 | G37: =G36*12 -> 0 | H37: 계약기간 총 청구액(12개월)/VAT포함
